BEGIN:VCALENDAR
VERSION:2.0
PRODID:-//hacksw/handcal//NONSGML v1.0//EN
BEGIN:VEVENT
SUMMARY:finale comite interclu D4
UID:4a23e91b-a82d-4564-91b8-6185cdf123e4
DTSTART:20260404T220000Z
DTEND:20260405T220000Z
LOCATION:Localisation   
CATEGORIES:Sportif
STATUS:
URL;VALUE=URI:https://www.azurbridge.com/evenements/2026/04/05/finale-comite-interclu-d4-2438521
END:VEVENT
END:VCALENDAR
